BEGIN:VCALENDAR
VERSION:2.0
PRODID:-//SandiaRun - ECPv5.16.1.1//NONSGML v1.0//EN
CALSCALE:GREGORIAN
METHOD:PUBLISH
X-ORIGINAL-URL:https://sandiarun.com
X-WR-CALDESC:Events for SandiaRun
REFRESH-INTERVAL;VALUE=DURATION:PT1H
X-Robots-Tag:noindex
X-PUBLISHED-TTL:PT1H
BEGIN:VTIMEZONE
TZID:America/New_York
BEGIN:DAYLIGHT
TZOFFSETFROM:-0500
TZOFFSETTO:-0400
TZNAME:EDT
DTSTART:20230312T070000
END:DAYLIGHT
BEGIN:STANDARD
TZOFFSETFROM:-0400
TZOFFSETTO:-0500
TZNAME:EST
DTSTART:20231105T060000
END:STANDARD
END:VTIMEZONE
BEGIN:VEVENT
DTSTART;VALUE=DATE:20230108
DTEND;VALUE=DATE:20230109
DTSTAMP:20260420T064202
CREATED:20230111T022254Z
LAST-MODIFIED:20230111T022338Z
UID:3212-1673136000-1673222399@sandiarun.com
SUMMARY:Campeonato Nacional de Cross Country
DESCRIPTION:
URL:https://sandiarun.com/calendario/campeonato-nacional-de-cross-country/
LOCATION:Piedecuesta\, Santander\, Colombia
END:VEVENT
BEGIN:VEVENT
DTSTART;VALUE=DATE:20230910
DTEND;VALUE=DATE:20230911
DTSTAMP:20260420T064202
CREATED:20230902T153951Z
LAST-MODIFIED:20230902T154148Z
UID:3665-1694304000-1694390399@sandiarun.com
SUMMARY:Sendero Del Cañón
DESCRIPTION:¡Bienvenidos a la segunda serie del campeonato Santander Trail Series 2023!  \n\nEsta serie tendrá dos recorridos :  23 kilómetros y 7 kilómetros\n\nLa distancia corta esta diseñada para las personas que están iniciando en el deporte de trail running y es ideal también para caminantes o deportistas que deseen participar y disfrutar de la experiencia. Puedes participar de forma competitiva o recreativa.\n\nLa distancia larga es apta para atletas y deportistas intermedios y avanzados\, que tengan experiencia en competencias de atletismo de mínimo 21 kilómetros y/o caminatas largas de más de 6 o 7 horas de duración.\n\nLos recorridos serán por medio de trochas y caminos ancestrales de montaña\, que aún utilizan los campesinos de la región para movilizarse y transportar los productos de cosecha de las veredas cercanas. Próximamente les estaremos anunciando lugar de inicio y meta de la competencia y algunos otros datos logísticos de la carrera.\n\nEste reto deportivo busca nuevamente fomentar el movimiento\, la actividad física y el deporte en la naturaleza\, corriendo y caminando sobre senderos de montaña donde se puede respirar aire puro y disfrutar de los paisajes de la región.
URL:https://sandiarun.com/calendario/sendero-del-canon/
LOCATION:Piedecuesta\, Santander\, Colombia
CATEGORIES:Trail
ATTACH;FMTTYPE=image/jpeg:https://sandiarun.com/wp-content/uploads/2021/08/descarga-3.jpeg
END:VEVENT
BEGIN:VEVENT
DTSTART;VALUE=DATE:20230924
DTEND;VALUE=DATE:20230925
DTSTAMP:20260420T064202
CREATED:20230318T021206Z
LAST-MODIFIED:20230902T153046Z
UID:3398-1695513600-1695599999@sandiarun.com
SUMMARY:Merrel Trail Tour Santander
DESCRIPTION:En 2023\, tendremos una verdadera gira por Colombia\, que se dividirá en 4 fechas\, comenzando en la legendaria sede\, Guatavita; luego irá al corazón de la cordillera occidental\, en el hermoso departamento de Antioquia; continuando con el departamento de Santander\, la tierra de los deportes de aventura; y para el gran final\, la gira llegará a la paradisíaca Santa Marta\, en el marco de los 10 años de la emblemática Del Mar A La Cima\, en la cual Merrell vuelve a ser el patrocinador oficial. \nPara esta décima edición el Merrell Trail Tour te dará la oportunidad de recorrer algunos de los escenarios más hermosos del país\, acompañado de una logística extraordinaria y en el marco de una fiesta de montaña a otro nivel. Nos hemos propuesto que los caminantes\, los niños\, las personas con poca cercanía con las actividades al aire libre\, los atletas más experimentados\, e incluso los que salen a caminar o entrenar con sus mascotas\, encuentren en las 4 fechas una experiencia fantástica.
URL:https://sandiarun.com/calendario/merrel-trail-tour-santander/
LOCATION:Piedecuesta\, Santander\, Colombia
CATEGORIES:Trail
ORGANIZER;CN="Aire%20Libre%20Y%20Aventura":MAILTO:info@delmaralacima.com
END:VEVENT
END:VCALENDAR