BEGIN:VCALENDAR
VERSION:2.0
PRODID:-//SandiaRun - ECPv5.16.1.1//NONSGML v1.0//EN
CALSCALE:GREGORIAN
METHOD:PUBLISH
X-ORIGINAL-URL:https://sandiarun.com
X-WR-CALDESC:Events for SandiaRun
REFRESH-INTERVAL;VALUE=DURATION:PT1H
X-Robots-Tag:noindex
X-PUBLISHED-TTL:PT1H
BEGIN:VTIMEZONE
TZID:America/New_York
BEGIN:DAYLIGHT
TZOFFSETFROM:-0500
TZOFFSETTO:-0400
TZNAME:EDT
DTSTART:20230312T070000
END:DAYLIGHT
BEGIN:STANDARD
TZOFFSETFROM:-0400
TZOFFSETTO:-0500
TZNAME:EST
DTSTART:20231105T060000
END:STANDARD
END:VTIMEZONE
BEGIN:VEVENT
DTSTART;VALUE=DATE:20230910
DTEND;VALUE=DATE:20230911
DTSTAMP:20260421T061807
CREATED:20230902T145917Z
LAST-MODIFIED:20230902T150237Z
UID:3649-1694304000-1694390399@sandiarun.com
SUMMARY:Carrera Matamoros
DESCRIPTION:Inscríbete en la Carrera Matamoros en su versión #15. Deja atrás lo que te hace daño\, lo que te lastima\, lo que te entristece. Corre como el viento\, suelta\, y déjalo ir sin miedo. Tienes un camino por delante. \nTienes kilómetros de carrera por delante para que corras hombro a hombro con los soldados y policías heridos y con discapacidad que cada día crecen y se fortalecen demostrando su resiliencia y valor para enfrentar su nueva vida. \nAvancemos y dejemos las diferencias atrás. \n#UnCaminoPorDelante
URL:https://sandiarun.com/calendario/carrera-matamoros/
LOCATION:Cajicá-Zipaquirá
CATEGORIES:Asfalto
END:VEVENT
END:VCALENDAR