BEGIN:VCALENDAR
VERSION:2.0
PRODID:-//SandiaRun - ECPv5.16.1.1//NONSGML v1.0//EN
CALSCALE:GREGORIAN
METHOD:PUBLISH
X-ORIGINAL-URL:https://sandiarun.com
X-WR-CALDESC:Events for SandiaRun
REFRESH-INTERVAL;VALUE=DURATION:PT1H
X-Robots-Tag:noindex
X-PUBLISHED-TTL:PT1H
BEGIN:VTIMEZONE
TZID:America/New_York
BEGIN:DAYLIGHT
TZOFFSETFROM:-0500
TZOFFSETTO:-0400
TZNAME:EDT
DTSTART:20220313T070000
END:DAYLIGHT
BEGIN:STANDARD
TZOFFSETFROM:-0400
TZOFFSETTO:-0500
TZNAME:EST
DTSTART:20221106T060000
END:STANDARD
BEGIN:DAYLIGHT
TZOFFSETFROM:-0500
TZOFFSETTO:-0400
TZNAME:EDT
DTSTART:20230312T070000
END:DAYLIGHT
BEGIN:STANDARD
TZOFFSETFROM:-0400
TZOFFSETTO:-0500
TZNAME:EST
DTSTART:20231105T060000
END:STANDARD
BEGIN:DAYLIGHT
TZOFFSETFROM:-0500
TZOFFSETTO:-0400
TZNAME:EDT
DTSTART:20240310T070000
END:DAYLIGHT
BEGIN:STANDARD
TZOFFSETFROM:-0400
TZOFFSETTO:-0500
TZNAME:EST
DTSTART:20241103T060000
END:STANDARD
BEGIN:DAYLIGHT
TZOFFSETFROM:-0500
TZOFFSETTO:-0400
TZNAME:EDT
DTSTART:20250309T070000
END:DAYLIGHT
BEGIN:STANDARD
TZOFFSETFROM:-0400
TZOFFSETTO:-0500
TZNAME:EST
DTSTART:20251102T060000
END:STANDARD
BEGIN:DAYLIGHT
TZOFFSETFROM:-0500
TZOFFSETTO:-0400
TZNAME:EDT
DTSTART:20260308T070000
END:DAYLIGHT
BEGIN:STANDARD
TZOFFSETFROM:-0400
TZOFFSETTO:-0500
TZNAME:EST
DTSTART:20261101T060000
END:STANDARD
END:VTIMEZONE
BEGIN:VEVENT
DTSTART;VALUE=DATE:20221120
DTEND;VALUE=DATE:20221121
DTSTAMP:20260420T130549
CREATED:20221115T175607Z
LAST-MODIFIED:20221115T175607Z
UID:3144-1668902400-1668988799@sandiarun.com
SUMMARY:Knu3
DESCRIPTION:¿Qué es Knu3?\n\n\n\n\nUn movimiento de ciudad organizado por nu3 para:\n\n\n\n\n\nPromover consciencia y estilos de vida saludables.\nApoyar la continuidad de nuestros programas de nutrición\, educación\, salud y emprendimiento.\n\nEn esta ocasión\, los recursos recaudados serán destinados a la dotación de nuestro Complejo Social nu3 en Villas de San Pablo.
URL:https://sandiarun.com/calendario/knu3/
LOCATION:Barranquilla\, Atlántico\, Colombia
CATEGORIES:Asfalto
ATTACH;FMTTYPE=image/jpeg:https://sandiarun.com/wp-content/uploads/2022/08/run.jpg
END:VEVENT
BEGIN:VEVENT
DTSTART;VALUE=DATE:20240811
DTEND;VALUE=DATE:20241014
DTSTAMP:20260420T130549
CREATED:20240607T001315Z
LAST-MODIFIED:20240703T215048Z
UID:4074-1723334400-1728863999@sandiarun.com
SUMMARY:5K Corre Por Tu Salud
DESCRIPTION:
URL:https://sandiarun.com/calendario/carrera-5k/
LOCATION:Barranquilla\, Atlántico\, Colombia
CATEGORIES:Asfalto
ATTACH;FMTTYPE=image/jpeg:https://sandiarun.com/wp-content/uploads/2023/01/descarga.jpeg
END:VEVENT
BEGIN:VEVENT
DTSTART;VALUE=DATE:20241201
DTEND;VALUE=DATE:20241202
DTSTAMP:20260420T130549
CREATED:20241119T225056Z
LAST-MODIFIED:20241119T225247Z
UID:4386-1733011200-1733097599@sandiarun.com
SUMMARY:Crazy Runners
DESCRIPTION:
URL:https://sandiarun.com/calendario/crazy-runners/
LOCATION:Barranquilla\, Atlántico\, Colombia
END:VEVENT
BEGIN:VEVENT
DTSTART;VALUE=DATE:20241201
DTEND;VALUE=DATE:20241202
DTSTAMP:20260420T130549
CREATED:20241119T224607Z
LAST-MODIFIED:20241119T224813Z
UID:4381-1733011200-1733097599@sandiarun.com
SUMMARY:Corre por la Paz Colombia
DESCRIPTION:
URL:https://sandiarun.com/calendario/corre-por-la-paz-colombia/
LOCATION:Barranquilla\, Atlántico\, Colombia
END:VEVENT
BEGIN:VEVENT
DTSTART;VALUE=DATE:20250928
DTEND;VALUE=DATE:20250929
DTSTAMP:20260420T130549
CREATED:20211008T134416Z
LAST-MODIFIED:20250719T234321Z
UID:1504-1759017600-1759103999@sandiarun.com
SUMMARY:Carrera Julio Sanz
DESCRIPTION:¡Corre por tu Salud Barranquilla 2025 !Celebra con nosotros la segunda edición de la CARRRERA JULIO SANZ este 28 de septiembre 2025\, con sus distancias 10K\, 5K y categoría kids 1K\, en una ruta diseñada para atletas y aficionados de todos los niveles. Corre entre sus patrimonios culturales y déjate llevar por la magia de su historia y tradición.
URL:https://sandiarun.com/calendario/desafio-ek-paujil/
LOCATION:Barranquilla\, Atlántico\, Colombia
CATEGORIES:Asfalto
ATTACH;FMTTYPE=image/jpeg:https://sandiarun.com/wp-content/uploads/2022/08/kv_GERAL_RED-scaled.jpg
END:VEVENT
BEGIN:VEVENT
DTSTART;VALUE=DATE:20251123
DTEND;VALUE=DATE:20251124
DTSTAMP:20260420T130549
CREATED:20241119T191309Z
LAST-MODIFIED:20250701T030322Z
UID:4316-1763856000-1763942399@sandiarun.com
SUMMARY:Al Trote Marinos
DESCRIPTION:La carrera “Al Trote Marinos” va mucho más allá de ser un evento deportivo; es una experiencia solidaria\, un encuentro ciudadano cargado de propósito\, que busca unir corazones y voluntades en torno a una misión profundamente significativa: apoyar la educación y formación integral de los futuros Grumetes de la Armada de Colombia.\nEstos jóvenes valientes han tomado la noble decisión de dedicar sus vidas al servicio del país\, defendiendo nuestros mares\, nuestras costas y nuestra soberanía. A través de esta carrera\, tú también puedes formar parte activa de su historia\, brindándoles las oportunidades que merecen para crecer\, prepararse y cumplir su propósito como Marinos de honor.\nTu participación como corredor no solo representa un reto personal o una experiencia deportiva única\, sino que también se convierte en un acto de solidaridad que transforma vidas reales\, al contribuir directamente con el bienestar y la educación de los jóvenes Grumetes de la Armada de Colombia y sus familias.\nCada kilómetro recorrido\, cada donación entregada\, cada mensaje compartido suma a esta causa nacional. No es solo una carrera: es una declaración de compromiso\, unidad y esperanza.\n¡Corre con nosotros\, apoya con el corazón y haz parte de esta misión social que deja huella en la vida de quienes protegen el Azul de la Bandera!
URL:https://sandiarun.com/calendario/al-trote-marinos/
LOCATION:Barranquilla\, Atlántico\, Colombia
CATEGORIES:Asfalto
ATTACH;FMTTYPE=image/jpeg:https://sandiarun.com/wp-content/uploads/2025/03/140528182347-runners-mistakes.jpg
END:VEVENT
BEGIN:VEVENT
DTSTART;VALUE=DATE:20251130
DTEND;VALUE=DATE:20251201
DTSTAMP:20260420T130549
CREATED:20250930T235552Z
LAST-MODIFIED:20251001T000421Z
UID:5126-1764460800-1764547199@sandiarun.com
SUMMARY:Corro Por ti Mi Viejo
DESCRIPTION:En todo el mundo\, las personas viven más tiempo que antes. Hoy\, la mayoría alcanza una esperanza de vida igual o superior a los 60 años. Cada país\, sin excepción\, está experimentando un crecimiento tanto en la cantidad como en la proporción de personas mayores. \nColombia no es ajena a esta realidad. Nos encontramos en plena transición demográfica\, un momento que exige iniciativas solidarias\, conscientes y humanas para garantizar una vejez digna. Porque envejecer no debe ser sinónimo de olvido\, sino de reconocimiento\, cuidado y gratitud. \n‘Corro por ti mi viejo’ nace de ese compromiso: honrar a quienes lo dieron todo por nosotros y recordar que aún tienen mucho que dar. Hoy corremos por ellos\, por su memoria\, por su dignidad y por el amor que sembraron en nuestras vidas.
URL:https://sandiarun.com/calendario/corro-por-ti-mi-viejo/
LOCATION:Barranquilla\, Atlántico\, Colombia
CATEGORIES:Asfalto
ATTACH;FMTTYPE=image/jpeg:https://sandiarun.com/wp-content/uploads/2025/03/140528182347-runners-mistakes.jpg
END:VEVENT
BEGIN:VEVENT
DTSTART;VALUE=DATE:20260314
DTEND;VALUE=DATE:20260316
DTSTAMP:20260420T130549
CREATED:20230210T151800Z
LAST-MODIFIED:20251021T000920Z
UID:3289-1773446400-1773619199@sandiarun.com
SUMMARY:Maratón de Barranquilla
DESCRIPTION:Es tiempo de correr. \nCorrer nos enseña a desafiarnos a nosotros mismos. Nos enseña a empujar más allá de donde pensamos que podíamos ir. Nos ayuda a descubir de que estamos hechos. Esto es lo que hacemos. Esto es de lo que se trata. \nLa ciudad de Barranquilla\, capital del departamento del Atlántico\, es una de las cinco ciudades más importantes de Colombia. Posee un aire cosmopolita que invita al viajero nacional o extranjero\, a disfrutarla\, a recorrerla y\, sobre todo\, a admirarla. \nSu famosa “brisa barranquillera”\, única en el mundo\, es una mezcla casi perfecta entre el agua dulce del río Magdalena\, y el agua salada del mas Caribe que no te puedes perder.
URL:https://sandiarun.com/calendario/maraton-de-barranquilla/
LOCATION:Barranquilla\, Atlántico\, Colombia
CATEGORIES:Asfalto
ATTACH;FMTTYPE=image/jpeg:https://sandiarun.com/wp-content/uploads/2023/02/images-5-e1736369939466.jpeg
ORGANIZER;CN="Maraton%20Barranquilla":MAILTO:contacto@maratonbarranquilla.com
END:VEVENT
END:VCALENDAR