BEGIN:VCALENDAR
VERSION:2.0
PRODID:-//SandiaRun - ECPv5.16.1.1//NONSGML v1.0//EN
CALSCALE:GREGORIAN
METHOD:PUBLISH
X-WR-CALNAME:SandiaRun
X-ORIGINAL-URL:https://sandiarun.com
X-WR-CALDESC:Events for SandiaRun
REFRESH-INTERVAL;VALUE=DURATION:PT1H
X-Robots-Tag:noindex
X-PUBLISHED-TTL:PT1H
BEGIN:VTIMEZONE
TZID:America/New_York
BEGIN:DAYLIGHT
TZOFFSETFROM:-0500
TZOFFSETTO:-0400
TZNAME:EDT
DTSTART:20240310T070000
END:DAYLIGHT
BEGIN:STANDARD
TZOFFSETFROM:-0400
TZOFFSETTO:-0500
TZNAME:EST
DTSTART:20241103T060000
END:STANDARD
END:VTIMEZONE
BEGIN:VEVENT
DTSTART;VALUE=DATE:20241117
DTEND;VALUE=DATE:20241118
DTSTAMP:20260420T071243
CREATED:20210820T221844Z
LAST-MODIFIED:20241005T165338Z
UID:1390-1731801600-1731887999@sandiarun.com
SUMMARY:Trail Girls Colombia
DESCRIPTION:#Empiezaportí  es una invitación al amor propio\, al deseo\, la fuerza\, el empoderamiento y la inclusión: los grandes cambios implican pasos pequeños que provienen de nuestro interior\, generando pequeñas revoluciones impactamos de manera global no solo en el crecimiento de este bello deporte\, sino la construcción de una mejor sociedad.
URL:https://sandiarun.com/calendario/trail-girls/
LOCATION:Guatavita\, Cundinamarca\, Colombia
CATEGORIES:Trail
ORGANIZER;CN="Trail%20Run%20Colombia":MAILTO:trailruncolombia@gmail.com
END:VEVENT
END:VCALENDAR