BEGIN:VCALENDAR
VERSION:2.0
PRODID:-//SandiaRun - ECPv5.16.1.1//NONSGML v1.0//EN
CALSCALE:GREGORIAN
METHOD:PUBLISH
X-ORIGINAL-URL:https://sandiarun.com
X-WR-CALDESC:Events for SandiaRun
REFRESH-INTERVAL;VALUE=DURATION:PT1H
X-Robots-Tag:noindex
X-PUBLISHED-TTL:PT1H
BEGIN:VTIMEZONE
TZID:America/New_York
BEGIN:DAYLIGHT
TZOFFSETFROM:-0500
TZOFFSETTO:-0400
TZNAME:EDT
DTSTART:20250309T070000
END:DAYLIGHT
BEGIN:STANDARD
TZOFFSETFROM:-0400
TZOFFSETTO:-0500
TZNAME:EST
DTSTART:20251102T060000
END:STANDARD
END:VTIMEZONE
BEGIN:VEVENT
DTSTART;VALUE=DATE:20250727
DTEND;VALUE=DATE:20250728
DTSTAMP:20260419T091024
CREATED:20210406T010437Z
LAST-MODIFIED:20250106T000730Z
UID:772-1753574400-1753660799@sandiarun.com
SUMMARY:Ginebra Trail
DESCRIPTION:Su objetivo es llevar al participante a vivir una experiencia de conexión con la naturaleza\, con el agua\, con su fortaleza física y mental\, a conocer los hermosos paisajes y exigentes montañas del municipio de Ginebra Valle del Cauca.
URL:https://sandiarun.com/calendario/ginebra-trail/
LOCATION:Ginebra\, Valle del Cauca\, Colombia
CATEGORIES:Trail
ATTACH;FMTTYPE=image/jpeg:https://sandiarun.com/wp-content/uploads/2021/04/ginebra.jpg
ORGANIZER;CN="Ginebra%20Runners%2C%20Amigos%20Trail%20Running%20Costa%20Rica":MAILTO:ginebratrail.colombia@gmail.com
END:VEVENT
END:VCALENDAR