BEGIN:VCALENDAR
VERSION:2.0
PRODID:-//SandiaRun - ECPv5.16.1.1//NONSGML v1.0//EN
CALSCALE:GREGORIAN
METHOD:PUBLISH
X-ORIGINAL-URL:https://sandiarun.com
X-WR-CALDESC:Events for SandiaRun
REFRESH-INTERVAL;VALUE=DURATION:PT1H
X-Robots-Tag:noindex
X-PUBLISHED-TTL:PT1H
BEGIN:VTIMEZONE
TZID:America/New_York
BEGIN:DAYLIGHT
TZOFFSETFROM:-0500
TZOFFSETTO:-0400
TZNAME:EDT
DTSTART:20250309T070000
END:DAYLIGHT
BEGIN:STANDARD
TZOFFSETFROM:-0400
TZOFFSETTO:-0500
TZNAME:EST
DTSTART:20251102T060000
END:STANDARD
END:VTIMEZONE
BEGIN:VEVENT
DTSTART;VALUE=DATE:20250720
DTEND;VALUE=DATE:20250721
DTSTAMP:20260421T061514
CREATED:20220722T122621Z
LAST-MODIFIED:20250720T014557Z
UID:2715-1752969600-1753055999@sandiarun.com
SUMMARY:Run Independencia
DESCRIPTION:BIENVENIDOS a la Carrera de la Independencia ….La carrera de la independencia es la carrera de los amigos\, un evento deportivo NO COMPETITIVO que se realiza el la ciudad de Cali cada año 20 de Julio día de la independencia en Colombia\, grupo de amigos que se reúnen a disfrutar de una pasión\, el Running\, en sus dos distancias 10K / 21k Carrera Recreativa.
URL:https://sandiarun.com/calendario/uva-trail/
LOCATION:Cali\, Valle del Cauca\, Colombia
CATEGORIES:Asfalto
ATTACH;FMTTYPE=image/jpeg:https://sandiarun.com/wp-content/uploads/2023/01/descarga-1.jpeg
END:VEVENT
END:VCALENDAR